BEGIN:VCALENDAR
VERSION:2.0
PRODID:-//NLTAPA - ECPv6.15.20//NONSGML v1.0//EN
CALSCALE:GREGORIAN
METHOD:PUBLISH
X-WR-CALNAME:NLTAPA
X-ORIGINAL-URL:https://nltapa.org
X-WR-CALDESC:Events for NLTAPA
REFRESH-INTERVAL;VALUE=DURATION:PT1H
X-Robots-Tag:noindex
X-PUBLISHED-TTL:PT1H
BEGIN:VTIMEZONE
TZID:America/New_York
BEGIN:DAYLIGHT
TZOFFSETFROM:-0500
TZOFFSETTO:-0400
TZNAME:EDT
DTSTART:20230312T070000
END:DAYLIGHT
BEGIN:STANDARD
TZOFFSETFROM:-0400
TZOFFSETTO:-0500
TZNAME:EST
DTSTART:20231105T060000
END:STANDARD
BEGIN:DAYLIGHT
TZOFFSETFROM:-0500
TZOFFSETTO:-0400
TZNAME:EDT
DTSTART:20240310T070000
END:DAYLIGHT
BEGIN:STANDARD
TZOFFSETFROM:-0400
TZOFFSETTO:-0500
TZNAME:EST
DTSTART:20241103T060000
END:STANDARD
BEGIN:DAYLIGHT
TZOFFSETFROM:-0500
TZOFFSETTO:-0400
TZNAME:EDT
DTSTART:20250309T070000
END:DAYLIGHT
BEGIN:STANDARD
TZOFFSETFROM:-0400
TZOFFSETTO:-0500
TZNAME:EST
DTSTART:20251102T060000
END:STANDARD
BEGIN:DAYLIGHT
TZOFFSETFROM:-0500
TZOFFSETTO:-0400
TZNAME:EDT
DTSTART:20260308T070000
END:DAYLIGHT
BEGIN:STANDARD
TZOFFSETFROM:-0400
TZOFFSETTO:-0500
TZNAME:EST
DTSTART:20261101T060000
END:STANDARD
BEGIN:DAYLIGHT
TZOFFSETFROM:-0500
TZOFFSETTO:-0400
TZNAME:EDT
DTSTART:20270314T070000
END:DAYLIGHT
BEGIN:STANDARD
TZOFFSETFROM:-0400
TZOFFSETTO:-0500
TZNAME:EST
DTSTART:20271107T060000
END:STANDARD
END:VTIMEZONE
BEGIN:VEVENT
DTSTART;TZID=America/New_York:20240623T080000
DTEND;TZID=America/New_York:20240626T170000
DTSTAMP:20260423T023653
CREATED:20240108T040924Z
LAST-MODIFIED:20240108T040924Z
UID:2647-1719129600-1719421200@nltapa.org
SUMMARY:2nd International Conference on Roadside Safety
DESCRIPTION:Register here\nGlobally\, over 3\,700 people die every day on the roads\, which amounts to nearly 1.35 million preventable deaths and an estimated 50 million injuries each year. Road traffic injuries are the leading cause of death for children and young adults 5–29 years of age\, and they rank the eighth leading cause of death for people of all ages. In the US\, Roadway Departures account for half of all fatalities. An iRAP study of roads in 60 countries\, at all levels of development\, revealed that 47% of curves on roads with speeds of 50 mph (80 km/h) or more have roadsides that increase the risk of non-survivable crashes. \nInternationally\, the impact of fatal roadway crashes is disproportionate around the world with dire socio-economic consequences: Low- and Middle- Income Countries contribute to 93% of the global road deaths despite representing only 60% of the global vehicle fleet. Unfortunately\, during the post-pandemic economic recovery\, several countries including the United States\, have registered a significant increase in the number of crash fatalities. \nThe Global Plan for the Decade of Action for Road Safety 2021- 2030 calls on government and partners to implement a Safe System Approach (SSA) to realize the vision of zero fatalities and severe injuries. The SSA is a holistic approach that considers 5 elements of a safe transportation system – safer road users\, safer vehicles\, safer speed\, safer roads\, and post-crash care. Reducing roadway departures and enhancing roadside safety are integral elements of any such plans. \nThe primary objective of TRB’s 2nd International Roadside Safety Conference (IRSC) is to support and advance global efforts to reduce deaths and serious injuries associated with roadway departure crashes. The IRSC will contribute to this objective through: (1) peer exchange and improved dissemination of information within the international roadside safety community; (2) increased collaboration amongst international roadside safety experts\, researchers\, government agencies\, and engineering consultants; and (3) a more rapid implementation of new technologies\, best practices\, and products from around the world. \nSee a tentative At-A-Glance agenda below. (Event dates range from Sunday through Wednesday\, plus additional Meetings being held Thursday and Friday). For specific dates and times reference the preliminary schedule.  \n 
URL:https://nltapa.org/calendar/2nd-international-conference-on-roadside-safety/
LOCATION:Orlando\, Florida\, Orlando\, FL
END:VEVENT
BEGIN:VEVENT
DTSTART;TZID=America/New_York:20240626T130000
DTEND;TZID=America/New_York:20240626T160000
DTSTAMP:20260423T023653
CREATED:20240607T114119Z
LAST-MODIFIED:20240607T114119Z
UID:2715-1719406800-1719417600@nltapa.org
SUMMARY:LTAP/TTAP U Virtual Kickoff
DESCRIPTION:NLTAPA members! Get an early start on networking and sharing with your peers across the country! \nJoin the NLTAPA Professional Development Work Group on June 26th from 1-3 ET for the virtual kickoff of LTAP/TTAP U.  This two-hour interactive session will allow attendees the opportunity to discuss numerous topics in small\, virtual breakout groups. Whether you are or aren’t planning to attend the national conference in New Mexico\,  this is a great opportunity to discuss timely and relevant topics\, no matter your years of experience or professional title. \nRegister here –https://us02web.zoom.us/meeting/register/tZwvdOmvrjktG9e6FUSRuzgFo0-lyUZ_ndbI#/registration \nFeel free to email Kim Carr kim.carr@mail.wvu.edu or Mary McCarthy mary.c.mccarthy@uconn.edu with questions. \n*This event is open to NLTAPA center staff only (LTAP and TTAP staff).
URL:https://nltapa.org/calendar/ltap-ttap-u-virtual-kickoff/
LOCATION:KY
END:VEVENT
BEGIN:VEVENT
DTSTART;TZID=America/New_York:20240721T080000
DTEND;TZID=America/New_York:20240725T170000
DTSTAMP:20260423T023653
CREATED:20231219T191521Z
LAST-MODIFIED:20231219T191521Z
UID:2642-1721548800-1721926800@nltapa.org
SUMMARY:2024 NLTAPA Conference
DESCRIPTION:
URL:https://nltapa.org/calendar/2024-nltapa-conference/
LOCATION:KY
END:VEVENT
BEGIN:VEVENT
DTSTART;VALUE=DATE:20241021
DTEND;VALUE=DATE:20241024
DTSTAMP:20260423T023653
CREATED:20240801T201440Z
LAST-MODIFIED:20240801T201440Z
UID:2728-1729468800-1729727999@nltapa.org
SUMMARY:39th Annual Local Roads Conference
DESCRIPTION: 
URL:https://nltapa.org/calendar/39th-annual-local-roads-conference/
LOCATION:Sioux Falls\, SD\, Denny Sanford Premier Center\, Sioux Falls\, SD\, United States
END:VEVENT
BEGIN:VEVENT
DTSTART;TZID=America/New_York:20241023T080000
DTEND;TZID=America/New_York:20241025T170000
DTSTAMP:20260423T023653
CREATED:20240108T043109Z
LAST-MODIFIED:20240108T043109Z
UID:2654-1729670400-1729875600@nltapa.org
SUMMARY:Roadway Management Conference
DESCRIPTION:Register here\nThe Roadway Management Conference brings together hundreds of roadway practitioners from across the region. Together they learn from experts and peers\, visit with vendors\, see equipment\, and experience demonstrations relevant to local and state roadway agencies. \n​Practitioners who manage\, design\, construct\, and maintain state\, county\, and municipal roads and streets. The RMC is designed to help these practitioners prepare for and successfully address public works transportation challenges using proven and innovative methods.
URL:https://nltapa.org/calendar/roadway-management-conference/
LOCATION:Rehoboth Beach\, DE\, Rehoboth Beach\, DE
END:VEVENT
BEGIN:VEVENT
DTSTART;TZID=America/New_York:20250105T080000
DTEND;TZID=America/New_York:20250105T163000
DTSTAMP:20260423T023653
CREATED:20241119T174541Z
LAST-MODIFIED:20241119T174933Z
UID:2767-1736064000-1736094600@nltapa.org
SUMMARY:NLTAPA Business Meeting
DESCRIPTION:We invite NLTAPA members to join the annual NLTAPA business meeting in-person or virtually.  Virtual link will be sent to registered NLTAPA attendees prior to the meeting. \nRegistration required for both meeting options at https://NatLTAPAssoc.regfox.com/2024-nltapa-winter-business-meeting. \nNLTAPA Winter Business Meeting Agenda 2025 \n 
URL:https://nltapa.org/calendar/nltapa-business-meeting-2/
LOCATION:National Highway Institute\, 2600 Park Tower Drive Suite 500\, Vienna\, VA\, 22180\, United States
END:VEVENT
BEGIN:VEVENT
DTSTART;TZID=America/New_York:20250624T130000
DTEND;TZID=America/New_York:20250624T153000
DTSTAMP:20260423T023653
CREATED:20250220T214926Z
LAST-MODIFIED:20250220T215008Z
UID:2795-1750770000-1750779000@nltapa.org
SUMMARY:NLTAPA Virtual Roundtable
DESCRIPTION:2025 NLTAPA Virtual Roundtables Announcement \nHosted by Professional Development Workgroup \n\nOpen to all LTAP/TTAP staff levels\nGreat opportunity to interact with and learn from peers across the program
URL:https://nltapa.org/calendar/nltapa-virtual-roundtable/
LOCATION:Virtual
END:VEVENT
BEGIN:VEVENT
DTSTART;TZID=America/New_York:20260111T090000
DTEND;TZID=America/New_York:20260111T163000
DTSTAMP:20260423T023653
CREATED:20251219T135423Z
LAST-MODIFIED:20251219T135647Z
UID:2960-1768122000-1768149000@nltapa.org
SUMMARY:NLTAPA Business Meeting
DESCRIPTION:NLTAPA Winter Business Meeting Agenda 2026
URL:https://nltapa.org/calendar/nltapa-business-meeting-3/
LOCATION:KY
END:VEVENT
BEGIN:VEVENT
DTSTART;TZID=America/New_York:20260719T080000
DTEND;TZID=America/New_York:20260723T170000
DTSTAMP:20260423T023653
CREATED:20260413T144946Z
LAST-MODIFIED:20260413T144946Z
UID:3001-1784448000-1784826000@nltapa.org
SUMMARY:2026 National LTAP TTAP Conference
DESCRIPTION:Registration for the NLTAPA Annual Conference is Now Open\n(Click the link for more information) \nWhy Attend? \nThe National LTAP/TTAP Association Annual Conference offers targeted professional development through sessions designed for all center roles—including trainers\, safety circuit riders\, administrators\, and leadership staff—helping strengthen skills across the entire organization. Centers also gain direct access to national expertise\, shared training resources\, and innovative practices through the broader NLTAPA network\, which represents LTAP and TTAP centers across the country.   In fact\, attendance at the conference\, which is mentioned in the NLTAPA strategic plan\, is considered a vital experience for LTAP and TTAP staff. \nThe annual conference provides valuable opportunities to network in-person with peers\, share experiences\, and build relationships that support ongoing collaboration and problem-solving. In addition\, centers are exposed to emerging technologies and innovative implementation strategies helping them stay current with industry trends and enhance the services they offer locally. By participating\, centers also have a voice in shaping national priorities\, contributing to strategic partnerships and training-resource development guided by NLTAPA and its workgroups. Engagement with vendors and sponsors further provides access to new training tools\, safety products\, and technology solutions that can strengthen center programming and support local agencies more effectively. Collectively\, these benefits help individual centers expand their capacity\, enhance their technical offerings\, and improve their ability to meet the evolving needs of the transportation workforce.
URL:https://nltapa.org/calendar/2026-national-ltap-ttap-conference/
LOCATION:Louisville\, Kentucky\, 335 W Broadway\, Louisville\, KY\, 40202
ATTACH;FMTTYPE=image/png:https://nltapa.org/wp-content/uploads/2026/01/2026-NLTAPA-National-Conference-2026-Kentucky-1.png
END:VEVENT
END:VCALENDAR