BEGIN:VCALENDAR
VERSION:2.0
PRODID:-//NLTAPA - ECPv6.15.20//NONSGML v1.0//EN
CALSCALE:GREGORIAN
METHOD:PUBLISH
X-WR-CALNAME:NLTAPA
X-ORIGINAL-URL:https://nltapa.org
X-WR-CALDESC:Events for NLTAPA
REFRESH-INTERVAL;VALUE=DURATION:PT1H
X-Robots-Tag:noindex
X-PUBLISHED-TTL:PT1H
BEGIN:VTIMEZONE
TZID:America/New_York
BEGIN:DAYLIGHT
TZOFFSETFROM:-0500
TZOFFSETTO:-0400
TZNAME:EDT
DTSTART:20190310T070000
END:DAYLIGHT
BEGIN:STANDARD
TZOFFSETFROM:-0400
TZOFFSETTO:-0500
TZNAME:EST
DTSTART:20191103T060000
END:STANDARD
BEGIN:DAYLIGHT
TZOFFSETFROM:-0500
TZOFFSETTO:-0400
TZNAME:EDT
DTSTART:20200308T070000
END:DAYLIGHT
BEGIN:STANDARD
TZOFFSETFROM:-0400
TZOFFSETTO:-0500
TZNAME:EST
DTSTART:20201101T060000
END:STANDARD
BEGIN:DAYLIGHT
TZOFFSETFROM:-0500
TZOFFSETTO:-0400
TZNAME:EDT
DTSTART:20210314T070000
END:DAYLIGHT
BEGIN:STANDARD
TZOFFSETFROM:-0400
TZOFFSETTO:-0500
TZNAME:EST
DTSTART:20211107T060000
END:STANDARD
END:VTIMEZONE
BEGIN:VEVENT
DTSTART;TZID=America/New_York:20200402T100000
DTEND;TZID=America/New_York:20200402T120000
DTSTAMP:20260420T024407
CREATED:20200327T161728Z
LAST-MODIFIED:20200327T161728Z
UID:1036-1585821600-1585828800@nltapa.org
SUMMARY:Signing\, Pavement Markings\, and the MUTCD
DESCRIPTION:This training will take a detailed look at Sections 1\, 2\, 3\, and 5 of the Manual on Uniform Traffic Control Devices. This will be a great opportunity for participants to get a good understanding of the requirements of these sections. The training will stress understanding of the MUTCD and its principles. \n\nSession 1 – Basics of Signs and Signing (3/31/2020\, 10am-12pm)\nSession 2 – Warrants and Use of Signs (4/1/2020\, 10am-12pm)\nSession 3 – Pavement Markings\, Temporary Traffic Control\, and Liability (4/2/2020\, 10am-12pm)\n\nTo register\, visit: https://floridaltap.org/signing-pavementmarkings-mutcd/
URL:https://nltapa.org/calendar/signing-pavement-markings-and-the-mutcd-3/
END:VEVENT
BEGIN:VEVENT
DTSTART;VALUE=DATE:20200402
DTEND;VALUE=DATE:20200404
DTSTAMP:20260420T024407
CREATED:20191216T165038Z
LAST-MODIFIED:20200330T124653Z
UID:645-1585785600-1585958399@nltapa.org
SUMMARY:*Postponed* Mid-Atlantic - 2020 NLTAPA Regional Meeting
DESCRIPTION:
URL:https://nltapa.org/calendar/mid-atlantic-2020-nltapa-regional-meeting/
LOCATION:Morgantown\, Morgantown\, WV
END:VEVENT
BEGIN:VEVENT
DTSTART;TZID=America/New_York:20200401T100000
DTEND;TZID=America/New_York:20200401T120000
DTSTAMP:20260420T024407
CREATED:20200327T161652Z
LAST-MODIFIED:20200327T161652Z
UID:1034-1585735200-1585742400@nltapa.org
SUMMARY:Signing\, Pavement Markings\, and the MUTCD
DESCRIPTION:This training will take a detailed look at Sections 1\, 2\, 3\, and 5 of the Manual on Uniform Traffic Control Devices. This will be a great opportunity for participants to get a good understanding of the requirements of these sections. The training will stress understanding of the MUTCD and its principles. \n\nSession 1 – Basics of Signs and Signing (3/31/2020\, 10am-12pm)\nSession 2 – Warrants and Use of Signs (4/1/2020\, 10am-12pm)\nSession 3 – Pavement Markings\, Temporary Traffic Control\, and Liability (4/2/2020\, 10am-12pm)\n\nTo register\, visit: https://floridaltap.org/signing-pavementmarkings-mutcd/
URL:https://nltapa.org/calendar/signing-pavement-markings-and-the-mutcd-2/
END:VEVENT
BEGIN:VEVENT
DTSTART;TZID=America/New_York:20200331T100000
DTEND;TZID=America/New_York:20200331T120000
DTSTAMP:20260420T024407
CREATED:20200327T161537Z
LAST-MODIFIED:20200327T161617Z
UID:1031-1585648800-1585656000@nltapa.org
SUMMARY:Signing\, Pavement Markings\, and the MUTCD
DESCRIPTION:This training will take a detailed look at Sections 1\, 2\, 3\, and 5 of the Manual on Uniform Traffic Control Devices. This will be a great opportunity for participants to get a good understanding of the requirements of these sections. The training will stress understanding of the MUTCD and its principles. \n\nSession 1 – Basics of Signs and Signing (3/31/2020\, 10am-12pm)\nSession 2 – Warrants and Use of Signs (4/1/2020\, 10am-12pm)\nSession 3 – Pavement Markings\, Temporary Traffic Control\, and Liability (4/2/2020\, 10am-12pm)\n\nTo register\, visit: https://floridaltap.org/signing-pavementmarkings-mutcd/
URL:https://nltapa.org/calendar/signing-pavement-markings-and-the-mutcd/
END:VEVENT
BEGIN:VEVENT
DTSTART;VALUE=DATE:20200324
DTEND;VALUE=DATE:20200327
DTSTAMP:20260420T024407
CREATED:20191216T164909Z
LAST-MODIFIED:20200330T125205Z
UID:639-1585008000-1585267199@nltapa.org
SUMMARY:*Postponed* North Central - 2020 NLTAPA Regional Meeting
DESCRIPTION:
URL:https://nltapa.org/calendar/north-central-2020-nltapa-regional-meeting/
LOCATION:Arlington\, Arlington\, TX
END:VEVENT
BEGIN:VEVENT
DTSTART;VALUE=DATE:20200324
DTEND;VALUE=DATE:20200327
DTSTAMP:20260420T024407
CREATED:20191216T164411Z
LAST-MODIFIED:20200330T125159Z
UID:626-1585008000-1585267199@nltapa.org
SUMMARY:*Postponed* South Central - 2020 NLTAPA Regional Meeting
DESCRIPTION:
URL:https://nltapa.org/calendar/south-central-2020-nltapa-regional-meeting/
LOCATION:Arlington\, Arlington\, TX
END:VEVENT
END:VCALENDAR