BEGIN:VCALENDAR
VERSION:2.0
PRODID:-//NLTAPA - ECPv6.15.20//NONSGML v1.0//EN
CALSCALE:GREGORIAN
METHOD:PUBLISH
X-ORIGINAL-URL:https://nltapa.org
X-WR-CALDESC:Events for NLTAPA
REFRESH-INTERVAL;VALUE=DURATION:PT1H
X-Robots-Tag:noindex
X-PUBLISHED-TTL:PT1H
BEGIN:VTIMEZONE
TZID:America/New_York
BEGIN:DAYLIGHT
TZOFFSETFROM:-0500
TZOFFSETTO:-0400
TZNAME:EDT
DTSTART:20200308T070000
END:DAYLIGHT
BEGIN:STANDARD
TZOFFSETFROM:-0400
TZOFFSETTO:-0500
TZNAME:EST
DTSTART:20201101T060000
END:STANDARD
BEGIN:DAYLIGHT
TZOFFSETFROM:-0500
TZOFFSETTO:-0400
TZNAME:EDT
DTSTART:20210314T070000
END:DAYLIGHT
BEGIN:STANDARD
TZOFFSETFROM:-0400
TZOFFSETTO:-0500
TZNAME:EST
DTSTART:20211107T060000
END:STANDARD
BEGIN:DAYLIGHT
TZOFFSETFROM:-0500
TZOFFSETTO:-0400
TZNAME:EDT
DTSTART:20220313T070000
END:DAYLIGHT
BEGIN:STANDARD
TZOFFSETFROM:-0400
TZOFFSETTO:-0500
TZNAME:EST
DTSTART:20221106T060000
END:STANDARD
END:VTIMEZONE
BEGIN:VEVENT
DTSTART;TZID=America/New_York:20210303T100000
DTEND;TZID=America/New_York:20210305T120000
DTSTAMP:20260425T112748
CREATED:20201216T175730Z
LAST-MODIFIED:20201216T175753Z
UID:1863-1614765600-1614945600@nltapa.org
SUMMARY:Designing Pedestrian Facilities for Accessibility – online
DESCRIPTION:Facilities in the public right-of-way (including walkways\, ramps\, curb ramps and landings\, crosswalks\, and pedestrian overpasses and underpasses) must be designed\, constructed and maintained to serve all users. To meet the needs of all users\, those involved with designing\, building and maintaining infrastructure need a clear understanding of the wide range of abilities that occur within the population and the challenges in the public right-of-way faced by persons with disabilities. This course will identify applicable laws\, regulations\, guidelines and standards pertaining to accessibility for persons with disabilities. Requirements for ensuring accessibility in existing facilities versus work in new construction and alternations will be discussed. Design elements necessary for achieving accessibility in the public right-of-way will be reviewed. Best practices will be identified. A detailed handout will be provided\, including resources on accessibility. Specific Topics to Be Covered Include: • Americans with Disabilities Act Accessibility Guidelines (ADAAG) and Public Rights-of-Way Accessibility Guidelines: Laws and Regulations • Legal Requirements • Pedestrian Characteristics • Pedestrian Access Route (PAR) • Curb Ramps and Other Transitions • Detectable Warnings • Pedestrian Crossings • Street Furniture and Parking • Work Zones and Maintenance • Accessible Pedestrian Signals \nThe target audience for this workshop is local\, state and private sector personnel with responsibility for designing\, constructing and maintaining facilities in the public right—of-way. These include engineers (municipal and consulting)\, MPO staff\, technicians\, public works directors\, street supervisors\, crew leaders\, landscape architects and contractors.\n \nPDH – 6 hours\n\n\n\n 
URL:https://nltapa.org/calendar/designing-pedestrian-facilities-for-accessibility/
LOCATION:Online Webinar
ATTACH;FMTTYPE=image/png:https://nltapa.org/wp-content/uploads/2020/04/NCLTAP_Logo_2017-01no-borders-and-transparant-Nov-14-2017-800x159-1.png
ORGANIZER;CN="NCSTATE":MAILTO:kbdaviso@ncsu.edu
END:VEVENT
BEGIN:VEVENT
DTSTART;TZID=America/New_York:20210308T130000
DTEND;TZID=America/New_York:20210310T150000
DTSTAMP:20260425T112748
CREATED:20210218T211305Z
LAST-MODIFIED:20210218T212717Z
UID:1889-1615208400-1615388400@nltapa.org
SUMMARY:Effective Leadership Skills - online
DESCRIPTION:Description: Leadership involves effective communication with organizational members to build successful teams and achieve organizational goals. This course will include ideas for communicating clear goals\, helping groups negotiate clear communication expectations\, motivating employees\, assessing team progress\, and providing effective performance feedback. Furthermore\, this course will provide an opportunity to prepare for a supervisory or leadership role by learning management concepts\, tools\, and techniques to build personal influence and succeed as a leader. Topics include ethics\, organizational self-assessment\, defining excellence\, and team development.\n\n\n\n\nCredits: 6 PDH\nRegister here!
URL:https://nltapa.org/calendar/effective-leadership-skills-online/
LOCATION:Online Webinar
ATTACH;FMTTYPE=image/png:https://nltapa.org/wp-content/uploads/2020/04/NCLTAP_Logo_2017-01no-borders-and-transparant-Nov-14-2017-800x159-1.png
ORGANIZER;CN="NCSTATE":MAILTO:kbdaviso@ncsu.edu
END:VEVENT
BEGIN:VEVENT
DTSTART;TZID=America/New_York:20210310T090000
DTEND;TZID=America/New_York:20210310T100000
DTSTAMP:20260425T112748
CREATED:20210223T140329Z
LAST-MODIFIED:20210223T140329Z
UID:1916-1615366800-1615370400@nltapa.org
SUMMARY:What is a SWPPP and How do You Spell it Anyway?
DESCRIPTION:Instructor: John Ricketts\nCourse Description: During our time together John will share with you the following information: \n\nWhat is a Stormwater Pollution Prevention Plan (SWPPP)?\nWhen do you need to have a SWPPP?\nWhat should a SWPPP include?\n\nRegister Here!
URL:https://nltapa.org/calendar/what-is-a-swppp-and-how-do-you-spell-it-anyway/
LOCATION:Online Webinar
ATTACH;FMTTYPE=image/png:https://nltapa.org/wp-content/uploads/2020/07/uktry.png
END:VEVENT
BEGIN:VEVENT
DTSTART;TZID=America/New_York:20210318T074500
DTEND;TZID=America/New_York:20210318T120000
DTSTAMP:20260425T112748
CREATED:20210222T152338Z
LAST-MODIFIED:20210222T152338Z
UID:1910-1616053500-1616068800@nltapa.org
SUMMARY:Excavating and Trench Safety (Half-Day Hybrid Online Class)
DESCRIPTION:This hybrid online class will combine both live instruction and independent online work that you will complete during the day.  Independent work will include quizzes\, readings\, videos and short assignments.  Access to a computer with a webcam (either a camera that is built into your laptop or one that connects via USB)\, a reliable internet connection and a workspace that is free from distraction and noise will set you up for success.  \nThis course covers basic set up of a backhoe work zone\, covering cones\, barricades\, caution tape and other barriers; positioning of essential and non-essential equipment and the declaring of minimum distances for separating machinery and pedestrians. In addition\, the course includes information about Carbon Monoxide hazards while working in a trench. The course also covers excavation issues including utility location\, shoring for backhoe proximity\, inclines\, surface stability\, safe backhoe travel areas and cave-in prevention. \nTrenching and excavation work presents serious hazards to all workers involved. Cave-ins pose the greatest risk and are more likely than some other excavation-related incidents to result in worker fatalities.  This course will address key steps towards preventing or greatly reducing the risk of cave-ins and other excavation related events.  The course accomplishes this by walking the student through ways to define soil classifications\, raising awareness about the importance of proper preplanning procedures\, identifying protective systems\, and describing sloping and benching options for different soil classifications. \nRegister here!
URL:https://nltapa.org/calendar/excavating-and-trench-safety-half-day-hybrid-online-class/
LOCATION:Online Webinar
ATTACH;FMTTYPE=image/png:https://nltapa.org/wp-content/uploads/2020/06/logo.png
END:VEVENT
BEGIN:VEVENT
DTSTART;TZID=America/New_York:20210318T130000
DTEND;TZID=America/New_York:20210318T130000
DTSTAMP:20260425T112748
CREATED:20210303T174932Z
LAST-MODIFIED:20210303T174932Z
UID:1941-1616072400-1616072400@nltapa.org
SUMMARY:Making Digital Content Accessible to All
DESCRIPTION:The NLTAPA Communications Work Group invites you to register to join us March 18th for this important topic!  Ted Green\, P.E. from New Jersey LTAP Center and Adam Arthur\, ‎Lead Technologist and Knowledge Management Specialist with FHWA\, will discuss what Section 508 is\, why it and ADA compliance are important in our LTAP efforts\, and also what tools and technologies can support accessibility in digital content including videos\, PDFs\, and other materials.  There will be time for audience sharing\, so bring your ideas and successes\, as well as your questions. \n 
URL:https://nltapa.org/calendar/making-digital-content-accessible-to-all/
LOCATION:Online Webinar
ATTACH;FMTTYPE=image/png:https://nltapa.org/wp-content/uploads/2021/03/unnamed.png
END:VEVENT
BEGIN:VEVENT
DTSTART;TZID=America/New_York:20210322T083000
DTEND;TZID=America/New_York:20210323T113000
DTSTAMP:20260425T112748
CREATED:20210218T212432Z
LAST-MODIFIED:20210218T212432Z
UID:1901-1616401800-1616499000@nltapa.org
SUMMARY:Asphalt Pavement Maintenance
DESCRIPTION:This workshop covers pavement evaluation\, asphalt mix materials\, hot plant mix production and pavement construction methods\, routing pavement maintenance techniques\, and pothole patching. \nA Zoom link to attend will be sent the day before the class starts. \nTo earn Road Scholar Credit you must attend both online sessions. \n\n\n\nRegister here!
URL:https://nltapa.org/calendar/asphalt-pavement-maintenance-2/
LOCATION:Online Webinar
ATTACH;FMTTYPE=image/png:https://nltapa.org/wp-content/uploads/2020/04/NCLTAP_Logo_2017-01no-borders-and-transparant-Nov-14-2017-800x159-1.png
ORGANIZER;CN="NCSTATE":MAILTO:kbdaviso@ncsu.edu
END:VEVENT
BEGIN:VEVENT
DTSTART;TZID=America/New_York:20210324T090000
DTEND;TZID=America/New_York:20210324T100000
DTSTAMP:20260425T112748
CREATED:20210223T141048Z
LAST-MODIFIED:20210223T141048Z
UID:1920-1616576400-1616580000@nltapa.org
SUMMARY:How to Deal with the Media in Good Times and Bad
DESCRIPTION:Instructor: Tom Kenney \nCourse Description: Participants will learn best practices for when they are exposed to dealing with the media. We will cover both good and bad times\, and provide examples on situations and responses. \nRegister Here!
URL:https://nltapa.org/calendar/how-to-deal-with-media/
LOCATION:Online Webinar
ATTACH;FMTTYPE=image/png:https://nltapa.org/wp-content/uploads/2020/07/uktry.png
END:VEVENT
END:VCALENDAR