BEGIN:VCALENDAR
VERSION:2.0
PRODID:-//NLTAPA - ECPv6.15.20//NONSGML v1.0//EN
CALSCALE:GREGORIAN
METHOD:PUBLISH
X-WR-CALNAME:NLTAPA
X-ORIGINAL-URL:https://nltapa.org
X-WR-CALDESC:Events for NLTAPA
REFRESH-INTERVAL;VALUE=DURATION:PT1H
X-Robots-Tag:noindex
X-PUBLISHED-TTL:PT1H
BEGIN:VTIMEZONE
TZID:America/New_York
BEGIN:DAYLIGHT
TZOFFSETFROM:-0500
TZOFFSETTO:-0400
TZNAME:EDT
DTSTART:20200308T070000
END:DAYLIGHT
BEGIN:STANDARD
TZOFFSETFROM:-0400
TZOFFSETTO:-0500
TZNAME:EST
DTSTART:20201101T060000
END:STANDARD
BEGIN:DAYLIGHT
TZOFFSETFROM:-0500
TZOFFSETTO:-0400
TZNAME:EDT
DTSTART:20210314T070000
END:DAYLIGHT
BEGIN:STANDARD
TZOFFSETFROM:-0400
TZOFFSETTO:-0500
TZNAME:EST
DTSTART:20211107T060000
END:STANDARD
BEGIN:DAYLIGHT
TZOFFSETFROM:-0500
TZOFFSETTO:-0400
TZNAME:EDT
DTSTART:20220313T070000
END:DAYLIGHT
BEGIN:STANDARD
TZOFFSETFROM:-0400
TZOFFSETTO:-0500
TZNAME:EST
DTSTART:20221106T060000
END:STANDARD
END:VTIMEZONE
BEGIN:VEVENT
DTSTART;TZID=America/New_York:20210414T090000
DTEND;TZID=America/New_York:20210414T100000
DTSTAMP:20260425T102030
CREATED:20210223T141510Z
LAST-MODIFIED:20210223T141510Z
UID:1922-1618390800-1618394400@nltapa.org
SUMMARY:Employee Recruitment-Finding the Best Candidate
DESCRIPTION:Instructor: Carolyn Miller \nCourse Description: Does your employee recruitment resemble a game of einy\, meeny\, miny\, moe?  This webinar will offer some tips and tricks for tackling one of the riskiest things employers do–hire good\, honest and dependable employees.  We will examine best recruitment and interview strategies to help you find the best candidate for your open positions. \nRegister Here!
URL:https://nltapa.org/calendar/finding-the-best-candidate/
LOCATION:Online Webinar
ATTACH;FMTTYPE=image/png:https://nltapa.org/wp-content/uploads/2020/07/uktry.png
END:VEVENT
BEGIN:VEVENT
DTSTART;TZID=America/New_York:20210415T090000
DTEND;TZID=America/New_York:20210415T120000
DTSTAMP:20260425T102030
CREATED:20210412T131553Z
LAST-MODIFIED:20210412T131553Z
UID:1951-1618477200-1618488000@nltapa.org
SUMMARY:PRLTAP – Introduction to the Roadside Design Guide (Webinar)
DESCRIPTION:Instructor: Dr. Fabiola Buitrago\, Transportation Consultant \nThis course introduces the highway design fundamental concepts and safety best practices incorporated in the AASHTO Roadside Design Guide\, 2011 fourth edition. \n*This webinar will be offered in SPANISH* \nPromo and Registration: https://mailchi.mp/9e109ed8620f/introduccion-al-manual-de-diseno-para-zonas-aledanas-a-la-carretera-2625156
URL:https://nltapa.org/calendar/prltap-introduction-to-the-roadside-design-guide-webinar/
LOCATION:Online Webinar
ATTACH;FMTTYPE=image/png:https://nltapa.org/wp-content/uploads/2020/08/puerto-rico.png
ORGANIZER;CN="PRLTAP":MAILTO:benjamin.colucci1@upr.edu
END:VEVENT
BEGIN:VEVENT
DTSTART;TZID=America/New_York:20210420T160000
DTEND;TZID=America/New_York:20210420T190000
DTSTAMP:20260425T102030
CREATED:20210412T131746Z
LAST-MODIFIED:20210412T131746Z
UID:1953-1618934400-1618945200@nltapa.org
SUMMARY:PRLTAP – Construction and Inspection of Warm Mix Asphalt (WMA) Pavements Webinar
DESCRIPTION:Instructor: Dr. Freddie Salado\, Transportation Engineer\nThis seminar provides participants an overall understanding of the importance of constructing high-\nquality asphalt pavements and how their responsibilities as an asphalt pavement project inspector play\na vital role. Participants will learn about the construction of Warm Mix Asphalt pavements from an\ninspector&#39;s perspective. Including but not limited to their role during the cold milling process\, asphalt\nmix production at the plant\, lay down\, and compaction of the mixture. \n*This webinar will be offered in SPANISH* \nPromo and Registration: \nhttps://mailchi.mp/8484a42e48b5/construccion-e-inspeccion-de-pavimentos-con-mezclas-asfalticas-tibias-2625168
URL:https://nltapa.org/calendar/prltap-construction-and-inspection-of-warm-mix-asphalt-wma-pavements-webinar/
LOCATION:Online Webinar
ATTACH;FMTTYPE=image/png:https://nltapa.org/wp-content/uploads/2020/08/puerto-rico.png
ORGANIZER;CN="PRLTAP":MAILTO:benjamin.colucci1@upr.edu
END:VEVENT
BEGIN:VEVENT
DTSTART;TZID=America/New_York:20210428T090000
DTEND;TZID=America/New_York:20210428T100000
DTSTAMP:20260425T102030
CREATED:20210223T141716Z
LAST-MODIFIED:20210223T141716Z
UID:1924-1619600400-1619604000@nltapa.org
SUMMARY:Local Road Safety Plans
DESCRIPTION:Instructor: Adam Kirk \nCourse Description: Adam Kirk will explain to participants what a Local Road Safety Plan consist of\, why it is important to have one\, and illustrate an effective example of one here in Kentucky. \nRegister Here!
URL:https://nltapa.org/calendar/kentucky-lrsp/
LOCATION:Online Webinar
ATTACH;FMTTYPE=image/png:https://nltapa.org/wp-content/uploads/2020/07/uktry.png
END:VEVENT
END:VCALENDAR