BEGIN:VCALENDAR
VERSION:2.0
PRODID:-//NLTAPA - ECPv6.15.20//NONSGML v1.0//EN
CALSCALE:GREGORIAN
METHOD:PUBLISH
X-ORIGINAL-URL:https://nltapa.org
X-WR-CALDESC:Events for NLTAPA
REFRESH-INTERVAL;VALUE=DURATION:PT1H
X-Robots-Tag:noindex
X-PUBLISHED-TTL:PT1H
BEGIN:VTIMEZONE
TZID:America/New_York
BEGIN:DAYLIGHT
TZOFFSETFROM:-0500
TZOFFSETTO:-0400
TZNAME:EDT
DTSTART:20200308T070000
END:DAYLIGHT
BEGIN:STANDARD
TZOFFSETFROM:-0400
TZOFFSETTO:-0500
TZNAME:EST
DTSTART:20201101T060000
END:STANDARD
BEGIN:DAYLIGHT
TZOFFSETFROM:-0500
TZOFFSETTO:-0400
TZNAME:EDT
DTSTART:20210314T070000
END:DAYLIGHT
BEGIN:STANDARD
TZOFFSETFROM:-0400
TZOFFSETTO:-0500
TZNAME:EST
DTSTART:20211107T060000
END:STANDARD
BEGIN:DAYLIGHT
TZOFFSETFROM:-0500
TZOFFSETTO:-0400
TZNAME:EDT
DTSTART:20220313T070000
END:DAYLIGHT
BEGIN:STANDARD
TZOFFSETFROM:-0400
TZOFFSETTO:-0500
TZNAME:EST
DTSTART:20221106T060000
END:STANDARD
END:VTIMEZONE
BEGIN:VEVENT
DTSTART;TZID=America/New_York:20210610T090000
DTEND;TZID=America/New_York:20210610T130000
DTSTAMP:20260425T074624
CREATED:20210503T125447Z
LAST-MODIFIED:20210503T125447Z
UID:1976-1623315600-1623330000@nltapa.org
SUMMARY:NJLTAP – Basic Math and Plan Reading (Webinar)
DESCRIPTION:This course provides a refresher on basic math skills related to construction inspection and road maintenance\, as well as how to locate information within a set of plans. \nTopics will includes reading notes\, determining quantities and understanding typography\, basic Geometry\, are and volume. Road Foreman\, Inspectors and Crew Leaders are encouraged to attend. \nInstructor: Ed Gottko\, P.E.\, 4 PDH. 4 Technical CPWM Contact Hours \n***This course is free\, but registration is required*** \nRegister at https://cait.rutgers.edu/event/njltap-basic-math-and-plan-reading-june/
URL:https://nltapa.org/calendar/njltap-basic-math-and-plan-reading-webinar/
LOCATION:Online Webinar
ATTACH;FMTTYPE=image/png:https://nltapa.org/wp-content/uploads/2020/05/nj-local-technical-assistance-program.png
ORGANIZER;CN="NJLTAP":MAILTO:job32@soe.rutgers.edu
END:VEVENT
BEGIN:VEVENT
DTSTART;TZID=America/New_York:20210623T090000
DTEND;TZID=America/New_York:20210623T100000
DTSTAMP:20260425T074624
CREATED:20210621T160053Z
LAST-MODIFIED:20210621T160053Z
UID:2038-1624438800-1624442400@nltapa.org
SUMMARY:Maintenance Welding Training
DESCRIPTION:In this webinar\, we will discuss maintenance welding\, including using ‘dual shield’ flux core arc welding (FCAW-g) for structural repairs\, and cutting with a thermal lance. This presentation is ideal for auto & diesel mechanics\, welders\, shop personnel and supervisors who make decisions for repairs and welding activities. \nRegister at: https://www.kyt2.com/resources/webinar-wednesday
URL:https://nltapa.org/calendar/maintenance-welding-training/
LOCATION:Online Webinar
ATTACH;FMTTYPE=image/png:https://nltapa.org/wp-content/uploads/2020/06/uk-college-of-engineering-logo.png
END:VEVENT
BEGIN:VEVENT
DTSTART;TZID=America/New_York:20210624T090000
DTEND;TZID=America/New_York:20210624T153000
DTSTAMP:20260425T074624
CREATED:20210503T125628Z
LAST-MODIFIED:20210503T125628Z
UID:1978-1624525200-1624548600@nltapa.org
SUMMARY:NJLTAP – Construction and Project Cost Estimating for Public Works Projects (Webinar)
DESCRIPTION:This course provides an understanding of practical applications for performing estimates on typical construction and maintenance projects. Various mathematical rules necessary to perform basic computations and formulas to perform cost and quantity calculations are reviewed. The participants perform material estimating\, problem solving\, and dealing with cost and quantity estimates. \nIntended audience: Individuals who are involved in collecting roadway measurements and compiling estimates for roadway maintenance and construction projects\, including public works employees such and street supervisors and directors. \nNJLTAP – Construction and Project Cost Estimating for Public Works Projects (In-Person)
URL:https://nltapa.org/calendar/njltap-construction-and-project-cost-estimating-for-public-works-projects-webinar/
LOCATION:Online Webinar
ATTACH;FMTTYPE=image/png:https://nltapa.org/wp-content/uploads/2020/05/nj-local-technical-assistance-program.png
ORGANIZER;CN="NJLTAP":MAILTO:job32@soe.rutgers.edu
END:VEVENT
END:VCALENDAR