BEGIN:VCALENDAR
VERSION:2.0
PRODID:-//NLTAPA - ECPv6.15.20//NONSGML v1.0//EN
CALSCALE:GREGORIAN
METHOD:PUBLISH
X-ORIGINAL-URL:https://nltapa.org
X-WR-CALDESC:Events for NLTAPA
REFRESH-INTERVAL;VALUE=DURATION:PT1H
X-Robots-Tag:noindex
X-PUBLISHED-TTL:PT1H
BEGIN:VTIMEZONE
TZID:America/New_York
BEGIN:DAYLIGHT
TZOFFSETFROM:-0500
TZOFFSETTO:-0400
TZNAME:EDT
DTSTART:20210314T070000
END:DAYLIGHT
BEGIN:STANDARD
TZOFFSETFROM:-0400
TZOFFSETTO:-0500
TZNAME:EST
DTSTART:20211107T060000
END:STANDARD
BEGIN:DAYLIGHT
TZOFFSETFROM:-0500
TZOFFSETTO:-0400
TZNAME:EDT
DTSTART:20220313T070000
END:DAYLIGHT
BEGIN:STANDARD
TZOFFSETFROM:-0400
TZOFFSETTO:-0500
TZNAME:EST
DTSTART:20221106T060000
END:STANDARD
BEGIN:DAYLIGHT
TZOFFSETFROM:-0500
TZOFFSETTO:-0400
TZNAME:EDT
DTSTART:20230312T070000
END:DAYLIGHT
BEGIN:STANDARD
TZOFFSETFROM:-0400
TZOFFSETTO:-0500
TZNAME:EST
DTSTART:20231105T060000
END:STANDARD
END:VTIMEZONE
BEGIN:VEVENT
DTSTART;TZID=America/New_York:20220404T130000
DTEND;TZID=America/New_York:20220404T140000
DTSTAMP:20260424T180315
CREATED:20220331T150616Z
LAST-MODIFIED:20220331T150616Z
UID:2229-1649077200-1649080800@nltapa.org
SUMMARY:NHI/NLTAPA MOA Webinar
DESCRIPTION:During the NLTAPA Winter Business Meeting\, it was announced that NHI and NLTAPA were signing a new Memorandum of Agreement. Please join us on April 4th at 1 PM EST to learn more about this agreement. During the session\, Tom Harman\, Joe Conway and Danielle Mathis-Lee will discuss the partnership created by the MOA and how we can work jointly to access some NHI training materials. By working together we hope to provide access to training materials for LTAP centers and help NHI. Our presenters will be taking your questions. \n\nThis session is being hosted by the NLTAPA Training Resources Workgroup. Please take a minute to register at the link below. \nhttps://wvu.zoom.us/meeting/register/tJMkdu2tpz8jGdFZp2HzLMqjA_01FS-17XKv
URL:https://nltapa.org/calendar/nhi-nltapa-moa-webinar/
LOCATION:KY
END:VEVENT
BEGIN:VEVENT
DTSTART;TZID=America/New_York:20220415T120000
DTEND;TZID=America/New_York:20220415T140000
DTSTAMP:20260424T180315
CREATED:20220331T150852Z
LAST-MODIFIED:20220331T150852Z
UID:2234-1650024000-1650031200@nltapa.org
SUMMARY:The Language of Leadership:  Employee Readiness and Leadership Style
DESCRIPTION:Meet your team: Sally Star\, Rick Rookie\, David Disturbed\, and Susan Sponge. As the team-lead\, do you treat all team members the same? What changes when striving to influence each toward goal completion? Learn how to determine employee readiness and the right leadership style to get the results you want. Discover the language of leadership that is specific to each leadership style.  This is part one of a two-part series. The second part is on May 20.  To register for Part 1 and find more information about the speaker\, please go to this link:  https://iowaltap.iastate.edu/events/employee-readiness-and-leadership-style/.
URL:https://nltapa.org/calendar/the-language-of-leadership-employee-readiness-and-leadership-style/
LOCATION:KY
ATTACH;FMTTYPE=image/png:https://nltapa.org/wp-content/uploads/2020/10/download.png
ORGANIZER;CN="IOWALTAP":MAILTO:kknapp@iastate.edu
END:VEVENT
BEGIN:VEVENT
DTSTART;TZID=America/New_York:20220419T100000
DTEND;TZID=America/New_York:20220419T120000
DTSTAMP:20260424T180315
CREATED:20220331T150727Z
LAST-MODIFIED:20220331T150727Z
UID:2231-1650362400-1650369600@nltapa.org
SUMMARY:FHWA FoRRRwD April Webinar - Breaking Down Barriers
DESCRIPTION:Join us for a free webinar on April 19\, 2022 from 1:00-3:00 pm ET/10:00am-12:00 pm PT\, hosted by FHWA in cooperation with the National Local Technical Assistance Program Association (NLTAPA) and the National Center for Rural Road Safety. Please see below for registration information and forward this announcement to anyone else who may be interested. \nRural roadway departures account for approximately one-third of all U.S. traffic fatalities—about 30 people a day. Roadside safety hardware is a proven countermeasure. Hardware such as barriers\, sign supports\, and work zone devices are commonly used to reduce the potential severity of these crashes. Knowing how\, when and where to install roadside hardware can be a challenge for transportation agencies.  Maintenance and replacement of existing barrier with newer hardware adds to the challenge. \n\n\n\n\nThis webinar will focus on how three transportation agencies are taking on these challenges. \nState\, local\, and tribal stakeholders – come and learn how you can reduce fatalities and serious injuries through the use of roadside safety hardware. \nPhoto source: FHWA
URL:https://nltapa.org/calendar/fhwa-forrrwd-april-webinar-breaking-down-barriers/
LOCATION:KY
END:VEVENT
BEGIN:VEVENT
DTSTART;TZID=America/New_York:20220421T083000
DTEND;TZID=America/New_York:20220422T120000
DTSTAMP:20260424T180315
CREATED:20220331T151352Z
LAST-MODIFIED:20220331T151352Z
UID:2240-1650529800-1650628800@nltapa.org
SUMMARY:Principles of Paving (Webinar)
DESCRIPTION:This course is for municipal or county employees and those that work with them who are involved in the planning\, inspecting and placing of asphalt pavements. The course will provide the information needed to properly plan and monitor a hot mix asphalt paving project. Basic knowledge of hot mix asphalt materials and example construction specifications will be provided. The importance of proper roadway preparation to obtain a long lasting product will be discussed. A basic understanding of the design\, delivery\, placement\, and compaction process in paving operations will be provided. \nhttps://cait.rutgers.edu/event/njltap-principles-of-paving/ 
URL:https://nltapa.org/calendar/principles-of-paving-webinar/
LOCATION:KY
ATTACH;FMTTYPE=image/png:https://nltapa.org/wp-content/uploads/2020/05/nj-local-technical-assistance-program.png
END:VEVENT
BEGIN:VEVENT
DTSTART;TZID=America/New_York:20220429T120000
DTEND;TZID=America/New_York:20220429T140000
DTSTAMP:20260424T180315
CREATED:20220331T150941Z
LAST-MODIFIED:20220331T150941Z
UID:2236-1651233600-1651240800@nltapa.org
SUMMARY:Effectively Leading Change
DESCRIPTION:April 29 – Effectively Leading Change \nHave you had a negative experience with change management? Most of us have. Learn how to lead change successfully and help your team and organization continue to grow and advance.  To register and find more information about the speakers\, please go to this link:  https://iowaltap.iastate.edu/events/effectively-leading-change/.
URL:https://nltapa.org/calendar/effectively-leading-change/
LOCATION:KY
ATTACH;FMTTYPE=image/png:https://nltapa.org/wp-content/uploads/2020/10/download.png
ORGANIZER;CN="IOWALTAP":MAILTO:kknapp@iastate.edu
END:VEVENT
END:VCALENDAR