BEGIN:VCALENDAR
VERSION:2.0
PRODID:-//NLTAPA - ECPv6.15.20//NONSGML v1.0//EN
CALSCALE:GREGORIAN
METHOD:PUBLISH
X-ORIGINAL-URL:https://nltapa.org
X-WR-CALDESC:Events for NLTAPA
REFRESH-INTERVAL;VALUE=DURATION:PT1H
X-Robots-Tag:noindex
X-PUBLISHED-TTL:PT1H
BEGIN:VTIMEZONE
TZID:America/New_York
BEGIN:DAYLIGHT
TZOFFSETFROM:-0500
TZOFFSETTO:-0400
TZNAME:EDT
DTSTART:20210314T070000
END:DAYLIGHT
BEGIN:STANDARD
TZOFFSETFROM:-0400
TZOFFSETTO:-0500
TZNAME:EST
DTSTART:20211107T060000
END:STANDARD
BEGIN:DAYLIGHT
TZOFFSETFROM:-0500
TZOFFSETTO:-0400
TZNAME:EDT
DTSTART:20220313T070000
END:DAYLIGHT
BEGIN:STANDARD
TZOFFSETFROM:-0400
TZOFFSETTO:-0500
TZNAME:EST
DTSTART:20221106T060000
END:STANDARD
BEGIN:DAYLIGHT
TZOFFSETFROM:-0500
TZOFFSETTO:-0400
TZNAME:EDT
DTSTART:20230312T070000
END:DAYLIGHT
BEGIN:STANDARD
TZOFFSETFROM:-0400
TZOFFSETTO:-0500
TZNAME:EST
DTSTART:20231105T060000
END:STANDARD
END:VTIMEZONE
BEGIN:VEVENT
DTSTART;TZID=America/New_York:20220510T120000
DTEND;TZID=America/New_York:20220510T133000
DTSTAMP:20260424T164115
CREATED:20220331T151747Z
LAST-MODIFIED:20220331T152341Z
UID:2242-1652184000-1652189400@nltapa.org
SUMMARY:The Safe System Approach: What is it and why is it getting so much attention?
DESCRIPTION:Achieving the vision of eliminating deaths and serious injuries from our Nation’s roads may seem daunting since traffic fatalities in the United States have been on the rise in recent years. To make meaningful progress\, a new paradigm is needed in the way we think about the traffic safety problem. The Safe System approach is a recognized international road safety best practice that is rapidly gaining awareness and application in the United States. It is an approach centered around creating a road system that accommodates inevitable human mistakes with a focus on avoiding severe outcomes. Creating a Safe System requires strengthening all the elements within the system and leveraging collaborative partnerships. \nhttps://cait.rutgers.edu/event/safesystem/
URL:https://nltapa.org/calendar/the-safe-system-approach-what-is-it-and-why-is-it-getting-so-much-attention/
LOCATION:KY
ATTACH;FMTTYPE=image/png:https://nltapa.org/wp-content/uploads/2020/05/nj-local-technical-assistance-program.png
END:VEVENT
BEGIN:VEVENT
DTSTART;TZID=America/New_York:20220512T120000
DTEND;TZID=America/New_York:20220512T133000
DTSTAMP:20260424T164115
CREATED:20220331T151922Z
LAST-MODIFIED:20220331T152306Z
UID:2245-1652356800-1652362200@nltapa.org
SUMMARY:Advancing Complete Streets and Equity Goals within the Safe System (Webinar)
DESCRIPTION:In March 2022\, the Federal Highway Administration (FHWA) issued a report to Congress detailing the agency’s commitment to advance widespread implementation of the Complete Streets design model to help improve safety and accessibility for all users. Within the five elements of the Safe System approach\, State and local transportation agencies focus on designing and operating safe roads that protect all road users while providing access and mobility through road designs and safety countermeasures that encourage safe speeds. Complete Streets are an embodiment of the safe roads and safe speeds elements of the Safe System approach. Safety\, accessibility\, and connectivity are closely linked to transportation equity. Equitable transportation provides access and options for all users regardless of race\, gender\, age\, disability status\, or class. Studies indicate that people walking in lower income areas are struck and killed by motor vehicles at much higher rates than those walking in higher-income neighborhoods. \nIn this webinar\, you will learn how to leverage the Safe System approach principles to advance the parallel goals and efforts for building Complete Streets and promote safe\, affordable\, accessible and multi-modal access to opportunities and services while reducing disparities and adverse community impacts. \nhttps://cait.rutgers.edu/event/safesystem2/
URL:https://nltapa.org/calendar/advancing-complete-streets-and-equity-goals-within-the-safe-system-webinar/
LOCATION:KY
ATTACH;FMTTYPE=image/png:https://nltapa.org/wp-content/uploads/2020/05/nj-local-technical-assistance-program.png
END:VEVENT
BEGIN:VEVENT
DTSTART;TZID=America/New_York:20220517T120000
DTEND;TZID=America/New_York:20220517T133000
DTSTAMP:20260424T164115
CREATED:20220331T152016Z
LAST-MODIFIED:20220331T152258Z
UID:2247-1652788800-1652794200@nltapa.org
SUMMARY:A Safe System Based Framework for Assessing Intersections (Webinar)
DESCRIPTION:Under a Safe System approach\, reaching the zero goal requires managing the circumstances of crashes such that the kinetic energy forces imposed on the human body do not result in death or serious injury. At an intersection\, this is accomplished by influencing conflict points\, speed\, and crash angles\, and considering exposure and complexity. Intersection projects are opportunities to explore how to apply Safe System principles to the project development planning and design decisions in support of reaching the zero goal\, as well as a performance-based approach to safety. The Federal Highway Administration (FHWA) sponsored an effort to develop a Safe System for Intersections (SSI) framework and methodology\, which represents a first step toward the development of objective and implementable analyses that reflect key Safe System concepts. \nThe Safe System assessment of an intersection can serve as an additional metric to inform alternatives analysis and identify an optimal solution for an intersection. The SSI method uses data that are typically available early in a project development lifecycle. In this webinar\, you will learn about the SSI framework and explore the potential to apply the methodology within the decision-making process for intersection projects. \nNJLTAP – A Safe System Based Framework for Assessing Intersections (Webinar)
URL:https://nltapa.org/calendar/a-safe-system-based-framework-for-assessing-intersections-webinar/
LOCATION:KY
ATTACH;FMTTYPE=image/png:https://nltapa.org/wp-content/uploads/2020/05/nj-local-technical-assistance-program.png
END:VEVENT
BEGIN:VEVENT
DTSTART;TZID=America/New_York:20220519T120000
DTEND;TZID=America/New_York:20220519T133000
DTSTAMP:20260424T164115
CREATED:20220331T152128Z
LAST-MODIFIED:20220331T152251Z
UID:2249-1652961600-1652967000@nltapa.org
SUMMARY:Implementing a Safe System Approach: A Playbook for State and Local Transportation Agencies (Webinar)
DESCRIPTION:  \nThere is no single pathway toward achieving a Safe System and there is no recipe for implementation. Achieving a Safe System is a complex journey that requires strengthening all elements in the system by numerous stakeholders. Stakeholders across the transportation community are already acting to advance the Safe System approach by making decisions guided by the underlying Safe System principles. In this webinar\, you will learn about strategies that state and local transportation agencies are implementing to advance the Safe System approach with focus on the Safe Roads and Safe Speed elements. The strategies are presented as a “playbook” intended to assist agencies by providing ideas and potential practices for Safe System implementation. Similar with a playbook for a football team\, it is not necessary to run every play to achieve your winning objective. Also\, selecting appropriate “plays” to run will depend on where your agency is located “on the field”. \nMany agencies may already be undertaking many of the practices identified. Also\, just like in a live game\, agencies may need to “call an audible” and adjust a recommendation to fit the needs of their organization. Selecting appropriate plays for your agency depends upon multiple factors and considerations such as your agency’s goals\, current policies\, funding availability\, and project development practices. No matter where your agency currently is on the Safe System implementation “journey”\, there are always “next steps” that may be taken and this webinar is intended to assist your agency (team) as you look to navigate toward successful implementation of a Safe System. \nNJLTAP – Implementing a Safe System Approach: A Playbook for State and Local Transportation Agencies (Webinar)
URL:https://nltapa.org/calendar/implementing-a-safe-system-approach-a-playbook-for-state-and-local-transportation-agencies-webinar/
LOCATION:KY
ATTACH;FMTTYPE=image/png:https://nltapa.org/wp-content/uploads/2020/05/nj-local-technical-assistance-program.png
END:VEVENT
BEGIN:VEVENT
DTSTART;TZID=America/New_York:20220520T120000
DTEND;TZID=America/New_York:20220520T140000
DTSTAMP:20260424T164115
CREATED:20220331T151015Z
LAST-MODIFIED:20220331T151038Z
UID:2238-1653048000-1653055200@nltapa.org
SUMMARY:The Language of Leadership:  Difficult Dialogue
DESCRIPTION:Meet the other two individuals on your team: Steve Stink and Debbie Downer. While they get their jobs done\, they kill team morale. Learn how to engage difficult employees before they negatively impact the morale and performance of your team. Discover the language of leadership needed to begin difficult dialogue in an array of situations.  This is part two of a two-part series. The first part is on April 15. To register for Part 2 and find more information about the speaker\, please go to this link:  https://iowaltap.iastate.edu/events/holding-difficult-dialogue/.
URL:https://nltapa.org/calendar/the-language-of-leadership-difficult-dialogue/
LOCATION:KY
ATTACH;FMTTYPE=image/png:https://nltapa.org/wp-content/uploads/2020/10/download.png
ORGANIZER;CN="IOWALTAP":MAILTO:kknapp@iastate.edu
END:VEVENT
BEGIN:VEVENT
DTSTART;TZID=America/New_York:20220525T080000
DTEND;TZID=America/New_York:20220526T170000
DTSTAMP:20260424T164115
CREATED:20220120T011410Z
LAST-MODIFIED:20220120T011410Z
UID:2185-1653465600-1653584400@nltapa.org
SUMMARY:NC Region Spring 2022 Meeting
DESCRIPTION:The NC Region Spring 2022 Meeting will be on May 25th and 26th\,  held at the Holiday Inn in downtown Sioux Falls\, SD
URL:https://nltapa.org/calendar/nc-region-spring-2022-meeting/
LOCATION:KY
END:VEVENT
END:VCALENDAR