BEGIN:VCALENDAR
VERSION:2.0
PRODID:-//NLTAPA - ECPv6.15.20//NONSGML v1.0//EN
CALSCALE:GREGORIAN
METHOD:PUBLISH
X-WR-CALNAME:NLTAPA
X-ORIGINAL-URL:https://nltapa.org
X-WR-CALDESC:Events for NLTAPA
REFRESH-INTERVAL;VALUE=DURATION:PT1H
X-Robots-Tag:noindex
X-PUBLISHED-TTL:PT1H
BEGIN:VTIMEZONE
TZID:America/New_York
BEGIN:DAYLIGHT
TZOFFSETFROM:-0500
TZOFFSETTO:-0400
TZNAME:EDT
DTSTART:20210314T070000
END:DAYLIGHT
BEGIN:STANDARD
TZOFFSETFROM:-0400
TZOFFSETTO:-0500
TZNAME:EST
DTSTART:20211107T060000
END:STANDARD
BEGIN:DAYLIGHT
TZOFFSETFROM:-0500
TZOFFSETTO:-0400
TZNAME:EDT
DTSTART:20220313T070000
END:DAYLIGHT
BEGIN:STANDARD
TZOFFSETFROM:-0400
TZOFFSETTO:-0500
TZNAME:EST
DTSTART:20221106T060000
END:STANDARD
BEGIN:DAYLIGHT
TZOFFSETFROM:-0500
TZOFFSETTO:-0400
TZNAME:EDT
DTSTART:20230312T070000
END:DAYLIGHT
BEGIN:STANDARD
TZOFFSETFROM:-0400
TZOFFSETTO:-0500
TZNAME:EST
DTSTART:20231105T060000
END:STANDARD
END:VTIMEZONE
BEGIN:VEVENT
DTSTART;TZID=America/New_York:20220607T093000
DTEND;TZID=America/New_York:20220607T120000
DTSTAMP:20260424T151246
CREATED:20220601T171205Z
LAST-MODIFIED:20220601T171205Z
UID:2281-1654594200-1654603200@nltapa.org
SUMMARY:Green Infrastructure and Porous Asphalt Seminar
DESCRIPTION:NJ LTAP invites you to attend this virtual seminar on Green Infrastructure and Porous Asphalt\, that is designed to inform attendees about the uses\, installation\, and maintenance of porous asphalt. Expert speakers will explore how porous pavement applies to stormwater regulations and green infrastructure\, as well as where it is applicable in public\, residential and commercial situations. \nThis program is intended for municipal and county agencies seeking to learn more about the uses\, installation\, and maintenance of porous asphalt. While most suited for engineers\, public works personnel\, and elected officials\, anyone is welcome to attend.\nRegister here\n 
URL:https://nltapa.org/calendar/green-infrastructure-and-porous-asphalt-seminar/
LOCATION:Online Webinar
ATTACH;FMTTYPE=image/png:https://nltapa.org/wp-content/uploads/2022/06/screen-shot-2022-04-20-at-10.53.40-am.png
END:VEVENT
BEGIN:VEVENT
DTSTART;TZID=America/New_York:20220621T140000
DTEND;TZID=America/New_York:20220621T160000
DTSTAMP:20260424T151246
CREATED:20220601T170848Z
LAST-MODIFIED:20220601T170848Z
UID:2276-1655820000-1655827200@nltapa.org
SUMMARY:Celebrating LTAP 40!
DESCRIPTION:We’re looking forward to celebrating LTAP’s 40 years (and counting!) on June 21st at 2 PM EST\, and hope to see all of our LTAP friends there\, as well as lots of local agencies and partners.  This celebration is open to all\, so we hope you’ll take a moment to share the attached invitation and registration link far and wide in your network! \nThere are a couple areas we invite every center’s participation in – first\, sharing photos\, stories\, or other updates about how your center is celebrating LTAP 40.  For instance- NH LTAP had a birthday cake celebration at our NH Road Agent’s Mountain of Demos yesterday (see our pictures ).  What is your center doing to celebrate?  Please send it my way so we can include it in an upcoming video collage. \nSecondly\, we’re still gathering LTAP history\, and highlights of LTAP and local agency partnership success.  If your center has a unique or special story of your work with a local or state project or team\, we’d love to hear about it and talk with those who participated.  This is a special time to reflect on the important role the LTAP program plays in creating and maintaining a safe\, effective surface transportation system\, so throughout this year\, we’re sharing the stories of LTAP’s impact.  LTAP centers across the nation are integral to local agencies’ access to knowledge\, information\, and new technologies… the LTAP 40 celebration is a great time to share that story. \n \n  \n 
URL:https://nltapa.org/calendar/celebrating-ltap-40/
LOCATION:KY
ATTACH;FMTTYPE=image/png:https://nltapa.org/wp-content/uploads/2022/06/LTAP-40.png
END:VEVENT
END:VCALENDAR