BEGIN:VCALENDAR
VERSION:2.0
PRODID:-//NLTAPA - ECPv6.15.20//NONSGML v1.0//EN
CALSCALE:GREGORIAN
METHOD:PUBLISH
X-ORIGINAL-URL:https://nltapa.org
X-WR-CALDESC:Events for NLTAPA
REFRESH-INTERVAL;VALUE=DURATION:PT1H
X-Robots-Tag:noindex
X-PUBLISHED-TTL:PT1H
BEGIN:VTIMEZONE
TZID:America/New_York
BEGIN:DAYLIGHT
TZOFFSETFROM:-0500
TZOFFSETTO:-0400
TZNAME:EDT
DTSTART:20220313T070000
END:DAYLIGHT
BEGIN:STANDARD
TZOFFSETFROM:-0400
TZOFFSETTO:-0500
TZNAME:EST
DTSTART:20221106T060000
END:STANDARD
BEGIN:DAYLIGHT
TZOFFSETFROM:-0500
TZOFFSETTO:-0400
TZNAME:EDT
DTSTART:20230312T070000
END:DAYLIGHT
BEGIN:STANDARD
TZOFFSETFROM:-0400
TZOFFSETTO:-0500
TZNAME:EST
DTSTART:20231105T060000
END:STANDARD
BEGIN:DAYLIGHT
TZOFFSETFROM:-0500
TZOFFSETTO:-0400
TZNAME:EDT
DTSTART:20240310T070000
END:DAYLIGHT
BEGIN:STANDARD
TZOFFSETFROM:-0400
TZOFFSETTO:-0500
TZNAME:EST
DTSTART:20241103T060000
END:STANDARD
END:VTIMEZONE
BEGIN:VEVENT
DTSTART;TZID=America/New_York:20230206T090000
DTEND;TZID=America/New_York:20230208T120000
DTSTAMP:20260424T003356
CREATED:20221107T143338Z
LAST-MODIFIED:20221107T143338Z
UID:2326-1675674000-1675857600@nltapa.org
SUMMARY:ADA In Temporary Traffic Control
DESCRIPTION:After a brief discussion of the relevant legal authorities (ADA\, PROWAG\, MUTCD)\, the workshop describes the challenges faced by individuals with disabilities as they travel in the built environment. The basic requirements of the Pedestrian Access Route are reviewed\, including width\, protruding objects\, cross slope\, grade\, surfaces and curb ramps/detectable warnings. The requirements for the alternate pedestrian access route are reviewed. \nTools to minimize the impacts of construction/maintenance/utility operations on pedestrians will be discussed\, namely: 1) phasing of construction\, 2) utilizing detailed plans\, 3) effective signing/communication and 4) effective barriers/barricades. The session will conclude with an interactive review/discussion of various work zone scenarios and best practices. \nUpon completion of the class\, participants will be able to: 1) assess a TTC zone set-up for compliance with ADA/MUTCD and 2) design a compliant TTC zone.   Log on instructions will be in your registration confirmation.   Advanced Road Scholar Credit
URL:https://nltapa.org/calendar/ada-in-temporary-traffic-control-3/
LOCATION:Online Webinar
ATTACH;FMTTYPE=image/png:https://nltapa.org/wp-content/uploads/2020/04/NCLTAP_Logo_2017-01no-borders-and-transparant-Nov-14-2017-800x159-1.png
ORGANIZER;CN="NCSTATE":MAILTO:kbdaviso@ncsu.edu
END:VEVENT
BEGIN:VEVENT
DTSTART;TZID=America/New_York:20230207T090000
DTEND;TZID=America/New_York:20230208T120000
DTSTAMP:20260424T003356
CREATED:20221107T143427Z
LAST-MODIFIED:20221107T143427Z
UID:2328-1675760400-1675857600@nltapa.org
SUMMARY:ADA Self Evaluations/Elements Of PROWAG (
DESCRIPTION:With the 25-year anniversary of the passage of ADA\, it is critical that local governments recognize their obligation to upgrade streets\, sidewalks and facilities for accessibility. ADA requires that public agencies perform self-evaluations and prepare transition plans. They were to have been completed by July 26\, 1992 and be updated periodically. The morning portion of the workshop examines the background to\, contents of and enforcement of the self-evaluation and transition plan requirements. Several landmark court cases are also highlighted. A case study is presented to illustrate these items. Participants will leave the session with a “To Do” list of next steps they need to take and a toolkit of helpful resources. The afternoon session overviews the current criteria for accessible public rights-of-way including the pedestrian access route\, curb ramps and detectable warnings\, accessible pedestrian signals\, street furniture\, on-street parking and temporary traffic control requirements for pedestrians.
URL:https://nltapa.org/calendar/ada-self-evaluations-elements-of-prowag-3/
LOCATION:Online Webinar
ATTACH;FMTTYPE=image/png:https://nltapa.org/wp-content/uploads/2020/04/NCLTAP_Logo_2017-01no-borders-and-transparant-Nov-14-2017-800x159-1.png
ORGANIZER;CN="NCSTATE":MAILTO:kbdaviso@ncsu.edu
END:VEVENT
BEGIN:VEVENT
DTSTART;TZID=America/New_York:20230209T090000
DTEND;TZID=America/New_York:20230210T120000
DTSTAMP:20260424T003356
CREATED:20221107T143622Z
LAST-MODIFIED:20221107T143622Z
UID:2330-1675933200-1676030400@nltapa.org
SUMMARY:Bicycles and Pedestrians: Meeting the Needs of All Users
DESCRIPTION:Many communities in the United States were not designed for pedestrian and bicycle travel. However\, today walkability and bikeability are important for active transportation and are indicators of a livable community. The objective of this workshop is to equip participants with information on providing safer\, more connected\, more comfortable\, accessible communities so that walking is a viable transportation choice for everyone\, including seniors\, children and people with visual\, mobility and other disabilities and that bicycling is a viable transportation choice for people of all ages. The class provides current information on the design\, operation and maintenance of successful pedestrian and bicycle facilities. Emphasis is placed on the importance of maintaining accessibility and compliance with relevant guidelines while at the same time encouraging innovation. This workshop should be of interest to those in a variety of fields including engineering (design\, traffic\, maintenance and construction) and public works\, planning\, landscape architecture\, recreation and parks\, law enforcement and public health-related fields. \nPDH – 6 hours Master Road Scholar Credit A Zoom link to attend will be sent the day before the class starts.
URL:https://nltapa.org/calendar/bicycles-and-pedestrians-meeting-the-needs-of-all-users/
LOCATION:Online Webinar
ATTACH;FMTTYPE=image/png:https://nltapa.org/wp-content/uploads/2020/04/NCLTAP_Logo_2017-01no-borders-and-transparant-Nov-14-2017-800x159-1.png
ORGANIZER;CN="NCSTATE":MAILTO:kbdaviso@ncsu.edu
END:VEVENT
BEGIN:VEVENT
DTSTART;TZID=America/New_York:20230213T140000
DTEND;TZID=America/New_York:20230215T160000
DTSTAMP:20260424T003356
CREATED:20230201T034748Z
LAST-MODIFIED:20230201T034748Z
UID:2411-1676296800-1676476800@nltapa.org
SUMMARY:Pavement Sustainability
DESCRIPTION:The course will introduce definitions and metrics for assessing and improving the sustainability of pavements across the life cycle using the concept of life cycle thinking. Strategies and approaches for different stages of the life cycle\, different contexts\, and differing goals of agencies will be discussed. Cost and social considerations will also be discussed. Expected future changes in tools\, technologies\, and policies for improving sustainability\, and considerations to help assure that proposed changes have a high probability of improving sustainability will be presented. This is an introductory-level course offered by the City and County Pavement Improvement Center (CCPIC) in partnership with TechTransfer. \nRegister here
URL:https://nltapa.org/calendar/pavement-sustainability/
LOCATION:KY
END:VEVENT
BEGIN:VEVENT
DTSTART;TZID=America/New_York:20230222T100000
DTEND;TZID=America/New_York:20230222T120000
DTSTAMP:20260424T003356
CREATED:20230201T035225Z
LAST-MODIFIED:20230201T035225Z
UID:2413-1677060000-1677067200@nltapa.org
SUMMARY:FHWA webinar: Value Capture Strategies—Innovative Finance and Project Bundling
DESCRIPTION:Join us in February 22nd\, 2023 at 10:00-12:00 PT to learn about implementing the nation’s infrastructure through Innovative Financing and bridge/project bundling project delivery. The webinar features experts on how Innovative Finance approaches are used to advance bridge/project bundling projects. How can smaller projects be effectively bundled together to create projects that are more attractive bidders\, meet Federal requirement thresholds\, quickly improve the infrastructure condition\, and expedite project delivery\, reduce costs\, and improve contracting efficiency? How best do we capture efficiencies and encourage collaboration in cross jurisdictional infrastructure projects? \nSpace is limited so you must register to reserve your space. Register today for the Value Capture Strategies: Innovative Finance and Project Bundling. Experts will present case studies demonstrating how all project bundling methods have been strategically used Innovative funding and financing approaches can be leveraged to potentially improve project efficiencies\, reduce costs\, enhance delivery timeframes and free constrained public resources for other priorities and projects. Register today!
URL:https://nltapa.org/calendar/fhwa-webinar-value-capture-strategies-innovative-finance-and-project-bundling/
LOCATION:Online Webinar
ATTACH;FMTTYPE=image/png:https://nltapa.org/wp-content/uploads/2020/08/1280px-FHWA_logo.svg.png
END:VEVENT
BEGIN:VEVENT
DTSTART;TZID=America/New_York:20230223T140000
DTEND;TZID=America/New_York:20230223T153000
DTSTAMP:20260424T003356
CREATED:20230201T040154Z
LAST-MODIFIED:20230201T040154Z
UID:2421-1677160800-1677166200@nltapa.org
SUMMARY:NLTAPA Instructor Users Group brought to you by TRWG
DESCRIPTION:Join here
URL:https://nltapa.org/calendar/nltapa-instructor-users-group-brought-to-you-by-trwg/
LOCATION:KY
END:VEVENT
BEGIN:VEVENT
DTSTART;TZID=America/New_York:20230227T080000
DTEND;TZID=America/New_York:20230227T170000
DTSTAMP:20260424T003356
CREATED:20230201T014222Z
LAST-MODIFIED:20230201T014222Z
UID:2405-1677484800-1677517200@nltapa.org
SUMMARY:NHI Safety Inspection of In-Service Bridges for Professional Engineers
DESCRIPTION:In accordance with the National Bridge Inspection Standards (NBIS)\, a Bridge Inspector must successfully complete an FHWA-approved comprehensive training along with an experience requirement to become a certified Bridge Inspection Team Leader\, or Program Manager.  This FHWA-approved course\, intended for Professional Engineers (PEs)\, is based on the “Bridge Inspector’s Reference Manual” (BIRM) and provides training on the safety inspection of in-service highway bridges.  It has been streamlined to better suit experienced Professional Engineers\, while retaining strong emphasis on bridge inspection\, documentation\, and coding requirements.  The course is a 5-day adaptation of FHWA-NHI 130055 training course and includes one bridge inspection field trip; new instruction on critical findings\, their identification and response; curriculum on the new AASHTO Element level evaluation; and updated activities that maximize participant engagement throughout the course.  This course does not go into depth on fracture critical\, underwater\, or complex bridge inspections (other NHI specialty courses cover these topics).  ODOT will provide transportation for course participants to attend the field trip portion of this course. \nWho Should Attend? – Federal\, State\, local highway employees and consultants with a Professional Engineer (P.E.) designation involved in inspecting bridges or in bridge inspection management and leadership positions.  A background in bridge engineering is strongly recommended.  ALL participants must be certified Professional Engineers (P.E.) showing evidence of such certification upon arrival at the course\, have met one of the three prerequisite requirements for participation in the FHWA-NHI-130056 course* and bring a course completion certificate bearing their name to the first day of the NHI-FHWA-130056 session. \nRegister here
URL:https://nltapa.org/calendar/nhi-safety-inspection-of-in-service-bridges-for-professional-engineers/
LOCATION:Online Webinar
ORGANIZER;CN="Ohio LTAP":MAILTO:ltap@dot.ohio.gov
END:VEVENT
BEGIN:VEVENT
DTSTART;TZID=America/New_York:20230227T100000
DTEND;TZID=America/New_York:20230301T120000
DTSTAMP:20260424T003356
CREATED:20230201T013445Z
LAST-MODIFIED:20230201T013900Z
UID:2391-1677492000-1677672000@nltapa.org
SUMMARY:Traffic Calming (Webinar)
DESCRIPTION:Course Description:\nDo you need to know when\, where\, and how to place things such as speed bumps or signage to slow down traffic on your local roadways? Traffic calming uses physical design and other measures to improve safety for motorists\, pedestrians and cyclists. \nThis course introduces how a municipality can establish a traffic engineered calming program for their roadways to increase safety and accessibility. Traffic calming is an engineering tool whose purpose is to address excessive traffic speed and/or cut-through traffic on residential. We’ll explore the definition of traffic calming and review the various types of traffic calming devices. The class discussion will outline both potential positive and negative impacts on a neighborhood and reviews a sample traffic calming program. During this workshop\, related issues\, such as impacts of traffic calming devices on liability\, roadway maintenance\, and emergency service will be discussed. Participants perform case studies\, applying traffic calming measures to address traffic concerns. \nLearning Objectives:\n\nUnderstand the various traffic calming measures and the traffic situations they apply to\nIdentify traffic calming impacts\nIdentify legal authority and liability of installing engineered traffic calming measures\n\nIntended Audience:\nThe intended audience is anyone who is responsible for receiving complaints or inquiries about speeding and/or cut-through traffic issues. This includes engineers\, public works superintendents\, municipal managers\, planners\, etc. Law enforcement and elected officials may also benefit from this course. \nCredits:\n6 PDH\, 6 Technical CPWM contact hours \nRegister here
URL:https://nltapa.org/calendar/njltap-traffic-calming-webinar/
LOCATION:Online Webinar
ATTACH;FMTTYPE=image/jpeg:https://nltapa.org/wp-content/uploads/2023/01/pedestrian-crossing-sign_hillsboro-oregon_wikimedia-768x557-1.jpg
ORGANIZER;CN="NJLTAP":MAILTO:job32@soe.rutgers.edu
END:VEVENT
END:VCALENDAR