BEGIN:VCALENDAR
VERSION:2.0
PRODID:-//NLTAPA - ECPv6.15.20//NONSGML v1.0//EN
CALSCALE:GREGORIAN
METHOD:PUBLISH
X-WR-CALNAME:NLTAPA
X-ORIGINAL-URL:https://nltapa.org
X-WR-CALDESC:Events for NLTAPA
REFRESH-INTERVAL;VALUE=DURATION:PT1H
X-Robots-Tag:noindex
X-PUBLISHED-TTL:PT1H
BEGIN:VTIMEZONE
TZID:America/New_York
BEGIN:DAYLIGHT
TZOFFSETFROM:-0500
TZOFFSETTO:-0400
TZNAME:EDT
DTSTART:20220313T070000
END:DAYLIGHT
BEGIN:STANDARD
TZOFFSETFROM:-0400
TZOFFSETTO:-0500
TZNAME:EST
DTSTART:20221106T060000
END:STANDARD
BEGIN:DAYLIGHT
TZOFFSETFROM:-0500
TZOFFSETTO:-0400
TZNAME:EDT
DTSTART:20230312T070000
END:DAYLIGHT
BEGIN:STANDARD
TZOFFSETFROM:-0400
TZOFFSETTO:-0500
TZNAME:EST
DTSTART:20231105T060000
END:STANDARD
BEGIN:DAYLIGHT
TZOFFSETFROM:-0500
TZOFFSETTO:-0400
TZNAME:EDT
DTSTART:20240310T070000
END:DAYLIGHT
BEGIN:STANDARD
TZOFFSETFROM:-0400
TZOFFSETTO:-0500
TZNAME:EST
DTSTART:20241103T060000
END:STANDARD
END:VTIMEZONE
BEGIN:VEVENT
DTSTART;TZID=America/New_York:20231107T130000
DTEND;TZID=America/New_York:20231109T150000
DTSTAMP:20260423T113054
CREATED:20221107T144022Z
LAST-MODIFIED:20221107T144022Z
UID:2342-1699362000-1699542000@nltapa.org
SUMMARY:Management and Supervisory Skills for First-Time Managers – online
DESCRIPTION:The Basic Concepts of Supervision focuses on the elements that new supervisors should be aware of: tasks of a leader\, being a role model\, motivation techniques\, communication skills\, problem solving and decision making\, conflict and time management\, customer service and stress management. The workshop is interactive with lecture\, small and large group exercises and skill practices. Participants will have opportunities to ask and answer questions related to the subjects as described. PDH – 6 hours A Zoom link to attend will be sent the day before the class starts.\nTo earn Road Scholar Credit you must attend all three online sessions.
URL:https://nltapa.org/calendar/management-and-supervisory-skills-for-first-time-managers-online-5/
LOCATION:Online Webinar
ATTACH;FMTTYPE=image/png:https://nltapa.org/wp-content/uploads/2020/04/NCLTAP_Logo_2017-01no-borders-and-transparant-Nov-14-2017-800x159-1.png
ORGANIZER;CN="NCSTATE":MAILTO:kbdaviso@ncsu.edu
END:VEVENT
END:VCALENDAR