BEGIN:VCALENDAR
VERSION:2.0
PRODID:-//NLTAPA - ECPv6.15.20//NONSGML v1.0//EN
CALSCALE:GREGORIAN
METHOD:PUBLISH
X-WR-CALNAME:NLTAPA
X-ORIGINAL-URL:https://nltapa.org
X-WR-CALDESC:Events for NLTAPA
REFRESH-INTERVAL;VALUE=DURATION:PT1H
X-Robots-Tag:noindex
X-PUBLISHED-TTL:PT1H
BEGIN:VTIMEZONE
TZID:America/New_York
BEGIN:DAYLIGHT
TZOFFSETFROM:-0500
TZOFFSETTO:-0400
TZNAME:EDT
DTSTART:20230312T070000
END:DAYLIGHT
BEGIN:STANDARD
TZOFFSETFROM:-0400
TZOFFSETTO:-0500
TZNAME:EST
DTSTART:20231105T060000
END:STANDARD
BEGIN:DAYLIGHT
TZOFFSETFROM:-0500
TZOFFSETTO:-0400
TZNAME:EDT
DTSTART:20240310T070000
END:DAYLIGHT
BEGIN:STANDARD
TZOFFSETFROM:-0400
TZOFFSETTO:-0500
TZNAME:EST
DTSTART:20241103T060000
END:STANDARD
BEGIN:DAYLIGHT
TZOFFSETFROM:-0500
TZOFFSETTO:-0400
TZNAME:EDT
DTSTART:20250309T070000
END:DAYLIGHT
BEGIN:STANDARD
TZOFFSETFROM:-0400
TZOFFSETTO:-0500
TZNAME:EST
DTSTART:20251102T060000
END:STANDARD
END:VTIMEZONE
BEGIN:VEVENT
DTSTART;TZID=America/New_York:20240107T080000
DTEND;TZID=America/New_York:20240107T170000
DTSTAMP:20260423T082651
CREATED:20231219T191813Z
LAST-MODIFIED:20231219T191813Z
UID:2644-1704614400-1704646800@nltapa.org
SUMMARY:NLTAPA Winter Meeting
DESCRIPTION:The NLTAPA Winter business meeting will be held on Sunday\, January 7th\, 2024 at the National Highway Institute Building in Washington DC.  The agenda is linked here\, and includes the link to the meeting for those of you who will be joining remotely. \nBelow is the link for registering for onsite attendance.  There is no cost to register but registration is necessary so we can get counts for food for the event.   You do not need to register to join remotely. \nRegister here
URL:https://nltapa.org/calendar/nltapa-winter-meeting/
LOCATION:KY
END:VEVENT
END:VCALENDAR